<?xml version="1.0" encoding="UTF-8"?>
<TileMap version="1.0.0" tilemapservice="https://ideg.segeplan.gob.gt/geoserver/gwc/service/tms/1.0.0">
  <Title>Caminos Chixoy</Title>
  <Abstract>El mapa clasifica tres categorías de acuerdo al revestimiento: Pavimentado, No Pavimentado, Desconocido, para los municipios de:  Cubulco, Rabinal y San Miguel
Chicaj (Baja Verapaz), San Cristóbal y Santa Cruz (Alta Verapaz) y Chicamán (Quiché), de acuerdo a la Política Pública de Reparación a las Comunidades Afectadas por la Construcción de la Hidroeléctrica Chixoy.  Fuente: Instituto Geográfico Nacional -IGN-.</Abstract>
  <SRS>EPSG:900913</SRS>
  <BoundingBox minx="-1.03318402378125E7" miny="1565430.3390625007" maxx="-1.001875417E7" maxy="1878516.4068749994"/>
  <Origin x="-1.03318402378125E7" y="1565430.3390625007"/>
  <TileFormat width="256" height="256" mime-type="image/jpeg" extension="jpeg"/>
  <TileSets profile="global-mercator">
    <TileSet href="https://ideg.segeplan.gob.gt/geoserver/gwc/service/tms/1.0.0/pder_chixoy%3Acaminos_chixoy@EPSG%3A900913@jpeg/0" units-per-pixel="156543.03390625" order="0"/>
    <TileSet href="https://ideg.segeplan.gob.gt/geoserver/gwc/service/tms/1.0.0/pder_chixoy%3Acaminos_chixoy@EPSG%3A900913@jpeg/1" units-per-pixel="78271.516953125" order="1"/>
    <TileSet href="https://ideg.segeplan.gob.gt/geoserver/gwc/service/tms/1.0.0/pder_chixoy%3Acaminos_chixoy@EPSG%3A900913@jpeg/2" units-per-pixel="39135.7584765625" order="2"/>
    <TileSet href="https://ideg.segeplan.gob.gt/geoserver/gwc/service/tms/1.0.0/pder_chixoy%3Acaminos_chixoy@EPSG%3A900913@jpeg/3" units-per-pixel="19567.87923828125" order="3"/>
    <TileSet href="https://ideg.segeplan.gob.gt/geoserver/gwc/service/tms/1.0.0/pder_chixoy%3Acaminos_chixoy@EPSG%3A900913@jpeg/4" units-per-pixel="9783.939619140625" order="4"/>
    <TileSet href="https://ideg.segeplan.gob.gt/geoserver/gwc/service/tms/1.0.0/pder_chixoy%3Acaminos_chixoy@EPSG%3A900913@jpeg/5" units-per-pixel="4891.9698095703125" order="5"/>
    <TileSet href="https://ideg.segeplan.gob.gt/geoserver/gwc/service/tms/1.0.0/pder_chixoy%3Acaminos_chixoy@EPSG%3A900913@jpeg/6" units-per-pixel="2445.9849047851562" order="6"/>
    <TileSet href="https://ideg.segeplan.gob.gt/geoserver/gwc/service/tms/1.0.0/pder_chixoy%3Acaminos_chixoy@EPSG%3A900913@jpeg/7" units-per-pixel="1222.9924523925781" order="7"/>
    <TileSet href="https://ideg.segeplan.gob.gt/geoserver/gwc/service/tms/1.0.0/pder_chixoy%3Acaminos_chixoy@EPSG%3A900913@jpeg/8" units-per-pixel="611.4962261962891" order="8"/>
    <TileSet href="https://ideg.segeplan.gob.gt/geoserver/gwc/service/tms/1.0.0/pder_chixoy%3Acaminos_chixoy@EPSG%3A900913@jpeg/9" units-per-pixel="305.74811309814453" order="9"/>
    <TileSet href="https://ideg.segeplan.gob.gt/geoserver/gwc/service/tms/1.0.0/pder_chixoy%3Acaminos_chixoy@EPSG%3A900913@jpeg/10" units-per-pixel="152.87405654907226" order="10"/>
    <TileSet href="https://ideg.segeplan.gob.gt/geoserver/gwc/service/tms/1.0.0/pder_chixoy%3Acaminos_chixoy@EPSG%3A900913@jpeg/11" units-per-pixel="76.43702827453613" order="11"/>
    <TileSet href="https://ideg.segeplan.gob.gt/geoserver/gwc/service/tms/1.0.0/pder_chixoy%3Acaminos_chixoy@EPSG%3A900913@jpeg/12" units-per-pixel="38.218514137268066" order="12"/>
    <TileSet href="https://ideg.segeplan.gob.gt/geoserver/gwc/service/tms/1.0.0/pder_chixoy%3Acaminos_chixoy@EPSG%3A900913@jpeg/13" units-per-pixel="19.109257068634033" order="13"/>
    <TileSet href="https://ideg.segeplan.gob.gt/geoserver/gwc/service/tms/1.0.0/pder_chixoy%3Acaminos_chixoy@EPSG%3A900913@jpeg/14" units-per-pixel="9.554628534317017" order="14"/>
    <TileSet href="https://ideg.segeplan.gob.gt/geoserver/gwc/service/tms/1.0.0/pder_chixoy%3Acaminos_chixoy@EPSG%3A900913@jpeg/15" units-per-pixel="4.777314267158508" order="15"/>
    <TileSet href="https://ideg.segeplan.gob.gt/geoserver/gwc/service/tms/1.0.0/pder_chixoy%3Acaminos_chixoy@EPSG%3A900913@jpeg/16" units-per-pixel="2.388657133579254" order="16"/>
    <TileSet href="https://ideg.segeplan.gob.gt/geoserver/gwc/service/tms/1.0.0/pder_chixoy%3Acaminos_chixoy@EPSG%3A900913@jpeg/17" units-per-pixel="1.194328566789627" order="17"/>
    <TileSet href="https://ideg.segeplan.gob.gt/geoserver/gwc/service/tms/1.0.0/pder_chixoy%3Acaminos_chixoy@EPSG%3A900913@jpeg/18" units-per-pixel="0.5971642833948135" order="18"/>
    <TileSet href="https://ideg.segeplan.gob.gt/geoserver/gwc/service/tms/1.0.0/pder_chixoy%3Acaminos_chixoy@EPSG%3A900913@jpeg/19" units-per-pixel="0.29858214169740677" order="19"/>
    <TileSet href="https://ideg.segeplan.gob.gt/geoserver/gwc/service/tms/1.0.0/pder_chixoy%3Acaminos_chixoy@EPSG%3A900913@jpeg/20" units-per-pixel="0.14929107084870338" order="20"/>
    <TileSet href="https://ideg.segeplan.gob.gt/geoserver/gwc/service/tms/1.0.0/pder_chixoy%3Acaminos_chixoy@EPSG%3A900913@jpeg/21" units-per-pixel="0.07464553542435169" order="21"/>
    <TileSet href="https://ideg.segeplan.gob.gt/geoserver/gwc/service/tms/1.0.0/pder_chixoy%3Acaminos_chixoy@EPSG%3A900913@jpeg/22" units-per-pixel="0.037322767712175846" order="22"/>
    <TileSet href="https://ideg.segeplan.gob.gt/geoserver/gwc/service/tms/1.0.0/pder_chixoy%3Acaminos_chixoy@EPSG%3A900913@jpeg/23" units-per-pixel="0.018661383856087923" order="23"/>
    <TileSet href="https://ideg.segeplan.gob.gt/geoserver/gwc/service/tms/1.0.0/pder_chixoy%3Acaminos_chixoy@EPSG%3A900913@jpeg/24" units-per-pixel="0.009330691928043961" order="24"/>
    <TileSet href="https://ideg.segeplan.gob.gt/geoserver/gwc/service/tms/1.0.0/pder_chixoy%3Acaminos_chixoy@EPSG%3A900913@jpeg/25" units-per-pixel="0.004665345964021981" order="25"/>
    <TileSet href="https://ideg.segeplan.gob.gt/geoserver/gwc/service/tms/1.0.0/pder_chixoy%3Acaminos_chixoy@EPSG%3A900913@jpeg/26" units-per-pixel="0.0023326729820109904" order="26"/>
    <TileSet href="https://ideg.segeplan.gob.gt/geoserver/gwc/service/tms/1.0.0/pder_chixoy%3Acaminos_chixoy@EPSG%3A900913@jpeg/27" units-per-pixel="0.0011663364910054952" order="27"/>
    <TileSet href="https://ideg.segeplan.gob.gt/geoserver/gwc/service/tms/1.0.0/pder_chixoy%3Acaminos_chixoy@EPSG%3A900913@jpeg/28" units-per-pixel="5.831682455027476E-4" order="28"/>
    <TileSet href="https://ideg.segeplan.gob.gt/geoserver/gwc/service/tms/1.0.0/pder_chixoy%3Acaminos_chixoy@EPSG%3A900913@jpeg/29" units-per-pixel="2.915841227513738E-4" order="29"/>
    <TileSet href="https://ideg.segeplan.gob.gt/geoserver/gwc/service/tms/1.0.0/pder_chixoy%3Acaminos_chixoy@EPSG%3A900913@jpeg/30" units-per-pixel="1.457920613756869E-4" order="30"/>
  </TileSets>
</TileMap>